Workbook

Sheet Tasks
A1: Task | B1: Owner | C1: Start | D1: Finish
A2: Draft plan | B2: Alex | C2: 46306 | D2: 46308

Sheet Timeline
A1: Task | B1: Owner | C1: 46306 | D1: 46307 | E1: 46308 | F1: 46309 | G1: 46310 | H1: 46311 | I1: 46312 | J1: 46313 | K1: 46314 | L1: 46315 | M1: 46316 | N1: 46317 | O1: 46318 | P1: 46319 | Q1: 46320 | R1: 46321 | S1: 46322 | T1: 46323 | U1: 46324 | V1: 46325 | W1: 46326 | X1: 46327 | Y1: 46328 | Z1: 46329 | AA1: 46330 | AB1: 46331 | AC1: 46332 | AD1: 46333
A2: =Tasks!A2 -> Draft plan | B2: =Tasks!B2 -> Alex | C2: =IF(AND(C$1>=Tasks!$C2,C$1<=Tasks!$D2),1,0) -> 1 | D2: =IF(AND(D$1>=Tasks!$C2,D$1<=Tasks!$D2),1,0) -> 1 | E2: =IF(AND(E$1>=Tasks!$C2,E$1<=Tasks!$D2),1,0) -> 1 | F2: =IF(AND(F$1>=Tasks!$C2,F$1<=Tasks!$D2),1,0) -> 0 | G2: =IF(AND(G$1>=Tasks!$C2,G$1<=Tasks!$D2),1,0) -> 0 | H2: =IF(AND(H$1>=Tasks!$C2,H$1<=Tasks!$D2),1,0) -> 0 | I2: =IF(AND(I$1>=Tasks!$C2,I$1<=Tasks!$D2),1,0) -> 0 | J2: =IF(AND(J$1>=Tasks!$C2,J$1<=Tasks!$D2),1,0) -> 0 | ... AD2: =IF(AND(AD$1>=Tasks!$C2,AD$1<=Tasks!$D2),1,0) -> 0
A3: =Tasks!A3 -> 0 | B3: =Tasks!B3 -> 0 | C3: =IF(AND(C$1>=Tasks!$C3,C$1<=Tasks!$D3),1,0) -> 0 | D3: =IF(AND(D$1>=Tasks!$C3,D$1<=Tasks!$D3),1,0) -> 0 | E3: =IF(AND(E$1>=Tasks!$C3,E$1<=Tasks!$D3),1,0) -> 0 | F3: =IF(AND(F$1>=Tasks!$C3,F$1<=Tasks!$D3),1,0) -> 0 | G3: =IF(AND(G$1>=Tasks!$C3,G$1<=Tasks!$D3),1,0) -> 0 | H3: =IF(AND(H$1>=Tasks!$C3,H$1<=Tasks!$D3),1,0) -> 0 | I3: =IF(AND(I$1>=Tasks!$C3,I$1<=Tasks!$D3),1,0) -> 0 | J3: =IF(AND(J$1>=Tasks!$C3,J$1<=Tasks!$D3),1,0) -> 0 | ... AD3: =IF(AND(AD$1>=Tasks!$C3,AD$1<=Tasks!$D3),1,0) -> 0
A4: =Tasks!A4 -> 0 | B4: =Tasks!B4 -> 0 | C4: =IF(AND(C$1>=Tasks!$C4,C$1<=Tasks!$D4),1,0) -> 0 | D4: =IF(AND(D$1>=Tasks!$C4,D$1<=Tasks!$D4),1,0) -> 0 | E4: =IF(AND(E$1>=Tasks!$C4,E$1<=Tasks!$D4),1,0) -> 0 | F4: =IF(AND(F$1>=Tasks!$C4,F$1<=Tasks!$D4),1,0) -> 0 | G4: =IF(AND(G$1>=Tasks!$C4,G$1<=Tasks!$D4),1,0) -> 0 | H4: =IF(AND(H$1>=Tasks!$C4,H$1<=Tasks!$D4),1,0) -> 0 | I4: =IF(AND(I$1>=Tasks!$C4,I$1<=Tasks!$D4),1,0) -> 0 | J4: =IF(AND(J$1>=Tasks!$C4,J$1<=Tasks!$D4),1,0) -> 0 | ... AD4: =IF(AND(AD$1>=Tasks!$C4,AD$1<=Tasks!$D4),1,0) -> 0
A5: =Tasks!A5 -> 0 | B5: =Tasks!B5 -> 0 | C5: =IF(AND(C$1>=Tasks!$C5,C$1<=Tasks!$D5),1,0) -> 0 | D5: =IF(AND(D$1>=Tasks!$C5,D$1<=Tasks!$D5),1,0) -> 0 | E5: =IF(AND(E$1>=Tasks!$C5,E$1<=Tasks!$D5),1,0) -> 0 | F5: =IF(AND(F$1>=Tasks!$C5,F$1<=Tasks!$D5),1,0) -> 0 | G5: =IF(AND(G$1>=Tasks!$C5,G$1<=Tasks!$D5),1,0) -> 0 | H5: =IF(AND(H$1>=Tasks!$C5,H$1<=Tasks!$D5),1,0) -> 0 | I5: =IF(AND(I$1>=Tasks!$C5,I$1<=Tasks!$D5),1,0) -> 0 | J5: =IF(AND(J$1>=Tasks!$C5,J$1<=Tasks!$D5),1,0) -> 0 | ... AD5: =IF(AND(AD$1>=Tasks!$C5,AD$1<=Tasks!$D5),1,0) -> 0
A6: =Tasks!A6 -> 0 | B6: =Tasks!B6 -> 0 | C6: =IF(AND(C$1>=Tasks!$C6,C$1<=Tasks!$D6),1,0) -> 0 | D6: =IF(AND(D$1>=Tasks!$C6,D$1<=Tasks!$D6),1,0) -> 0 | E6: =IF(AND(E$1>=Tasks!$C6,E$1<=Tasks!$D6),1,0) -> 0 | F6: =IF(AND(F$1>=Tasks!$C6,F$1<=Tasks!$D6),1,0) -> 0 | G6: =IF(AND(G$1>=Tasks!$C6,G$1<=Tasks!$D6),1,0) -> 0 | H6: =IF(AND(H$1>=Tasks!$C6,H$1<=Tasks!$D6),1,0) -> 0 | I6: =IF(AND(I$1>=Tasks!$C6,I$1<=Tasks!$D6),1,0) -> 0 | J6: =IF(AND(J$1>=Tasks!$C6,J$1<=Tasks!$D6),1,0) -> 0 | ... AD6: =IF(AND(AD$1>=Tasks!$C6,AD$1<=Tasks!$D6),1,0) -> 0
A7: =Tasks!A7 -> 0 | B7: =Tasks!B7 -> 0 | C7: =IF(AND(C$1>=Tasks!$C7,C$1<=Tasks!$D7),1,0) -> 0 | D7: =IF(AND(D$1>=Tasks!$C7,D$1<=Tasks!$D7),1,0) -> 0 | E7: =IF(AND(E$1>=Tasks!$C7,E$1<=Tasks!$D7),1,0) -> 0 | F7: =IF(AND(F$1>=Tasks!$C7,F$1<=Tasks!$D7),1,0) -> 0 | G7: =IF(AND(G$1>=Tasks!$C7,G$1<=Tasks!$D7),1,0) -> 0 | H7: =IF(AND(H$1>=Tasks!$C7,H$1<=Tasks!$D7),1,0) -> 0 | I7: =IF(AND(I$1>=Tasks!$C7,I$1<=Tasks!$D7),1,0) -> 0 | J7: =IF(AND(J$1>=Tasks!$C7,J$1<=Tasks!$D7),1,0) -> 0 | ... AD7: =IF(AND(AD$1>=Tasks!$C7,AD$1<=Tasks!$D7),1,0) -> 0
A8: =Tasks!A8 -> 0 | B8: =Tasks!B8 -> 0 | C8: =IF(AND(C$1>=Tasks!$C8,C$1<=Tasks!$D8),1,0) -> 0 | D8: =IF(AND(D$1>=Tasks!$C8,D$1<=Tasks!$D8),1,0) -> 0 | E8: =IF(AND(E$1>=Tasks!$C8,E$1<=Tasks!$D8),1,0) -> 0 | F8: =IF(AND(F$1>=Tasks!$C8,F$1<=Tasks!$D8),1,0) -> 0 | G8: =IF(AND(G$1>=Tasks!$C8,G$1<=Tasks!$D8),1,0) -> 0 | H8: =IF(AND(H$1>=Tasks!$C8,H$1<=Tasks!$D8),1,0) -> 0 | I8: =IF(AND(I$1>=Tasks!$C8,I$1<=Tasks!$D8),1,0) -> 0 | J8: =IF(AND(J$1>=Tasks!$C8,J$1<=Tasks!$D8),1,0) -> 0 | ... AD8: =IF(AND(AD$1>=Tasks!$C8,AD$1<=Tasks!$D8),1,0) -> 0
A9: =Tasks!A9 -> 0 | B9: =Tasks!B9 -> 0 | C9: =IF(AND(C$1>=Tasks!$C9,C$1<=Tasks!$D9),1,0) -> 0 | D9: =IF(AND(D$1>=Tasks!$C9,D$1<=Tasks!$D9),1,0) -> 0 | E9: =IF(AND(E$1>=Tasks!$C9,E$1<=Tasks!$D9),1,0) -> 0 | F9: =IF(AND(F$1>=Tasks!$C9,F$1<=Tasks!$D9),1,0) -> 0 | G9: =IF(AND(G$1>=Tasks!$C9,G$1<=Tasks!$D9),1,0) -> 0 | H9: =IF(AND(H$1>=Tasks!$C9,H$1<=Tasks!$D9),1,0) -> 0 | I9: =IF(AND(I$1>=Tasks!$C9,I$1<=Tasks!$D9),1,0) -> 0 | J9: =IF(AND(J$1>=Tasks!$C9,J$1<=Tasks!$D9),1,0) -> 0 | ... AD9: =IF(AND(AD$1>=Tasks!$C9,AD$1<=Tasks!$D9),1,0) -> 0
A10: =Tasks!A10 -> 0 | B10: =Tasks!B10 -> 0 | C10: =IF(AND(C$1>=Tasks!$C10,C$1<=Tasks!$D10),1,0) -> 0 | D10: =IF(AND(D$1>=Tasks!$C10,D$1<=Tasks!$D10),1,0) -> 0 | E10: =IF(AND(E$1>=Tasks!$C10,E$1<=Tasks!$D10),1,0) -> 0 | F10: =IF(AND(F$1>=Tasks!$C10,F$1<=Tasks!$D10),1,0) -> 0 | G10: =IF(AND(G$1>=Tasks!$C10,G$1<=Tasks!$D10),1,0) -> 0 | H10: =IF(AND(H$1>=Tasks!$C10,H$1<=Tasks!$D10),1,0) -> 0 | I10: =IF(AND(I$1>=Tasks!$C10,I$1<=Tasks!$D10),1,0) -> 0 | J10: =IF(AND(J$1>=Tasks!$C10,J$1<=Tasks!$D10),1,0) -> 0 | ... AD10: =IF(AND(AD$1>=Tasks!$C10,AD$1<=Tasks!$D10),1,0) -> 0
A11: =Tasks!A11 -> 0 | B11: =Tasks!B11 -> 0 | C11: =IF(AND(C$1>=Tasks!$C11,C$1<=Tasks!$D11),1,0) -> 0 | D11: =IF(AND(D$1>=Tasks!$C11,D$1<=Tasks!$D11),1,0) -> 0 | E11: =IF(AND(E$1>=Tasks!$C11,E$1<=Tasks!$D11),1,0) -> 0 | F11: =IF(AND(F$1>=Tasks!$C11,F$1<=Tasks!$D11),1,0) -> 0 | G11: =IF(AND(G$1>=Tasks!$C11,G$1<=Tasks!$D11),1,0) -> 0 | H11: =IF(AND(H$1>=Tasks!$C11,H$1<=Tasks!$D11),1,0) -> 0 | I11: =IF(AND(I$1>=Tasks!$C11,I$1<=Tasks!$D11),1,0) -> 0 | J11: =IF(AND(J$1>=Tasks!$C11,J$1<=Tasks!$D11),1,0) -> 0 | ... AD11: =IF(AND(AD$1>=Tasks!$C11,AD$1<=Tasks!$D11),1,0) -> 0

Sheet Instructions
A1: Workbook.tools template | B1: Instructions
A2: Purpose | B2: View task start and finish dates against a calendar grid.
A3: Limits | B3: Calendar-grid Gantt; do not claim native stacked-bar scheduling or automatic dependencies.
A4: Examples | B4: All example names, amounts and dates are fictional.
A5: Editing | B5: Edit input cells. Formula cells recalculate in the shared editor and Excel-compatible applications.
A6: Currency | B6: Currency codes change display only; no exchange-rate conversion.
A7: Dates and times | B7: Dates use the 1900 date system and UTC calendar days. Times are fractions of one day.
A8: Rows | B8: Use the configured rows; totals cover that bounded range.
A9: Input rules | B9: Use the provided date formats and dropdown values.
A10: Fields | B10: Tasks: Task, Owner, Start, Finish
A11: Fields | B11: Timeline: Task rows and generated date headers
A12: Fields | B12: Instructions
... A18: dayCount | B18: 28
